BEGIN:VCALENDAR
VERSION:2.0
PRODID:-//Bel Air Arts &amp; Entertainment District - ECPv6.15.20//NONSGML v1.0//EN
CALSCALE:GREGORIAN
METHOD:PUBLISH
X-WR-CALNAME:Bel Air Arts &amp; Entertainment District
X-ORIGINAL-URL:https://www.belairartsandentertainment.org
X-WR-CALDESC:Events for Bel Air Arts &amp; Entertainment District
REFRESH-INTERVAL;VALUE=DURATION:PT1H
X-Robots-Tag:noindex
X-PUBLISHED-TTL:PT1H
BEGIN:VTIMEZONE
TZID:America/New_York
BEGIN:DAYLIGHT
TZOFFSETFROM:-0500
TZOFFSETTO:-0400
TZNAME:EDT
DTSTART:20180311T070000
END:DAYLIGHT
BEGIN:STANDARD
TZOFFSETFROM:-0400
TZOFFSETTO:-0500
TZNAME:EST
DTSTART:20181104T060000
END:STANDARD
BEGIN:DAYLIGHT
TZOFFSETFROM:-0500
TZOFFSETTO:-0400
TZNAME:EDT
DTSTART:20190310T070000
END:DAYLIGHT
BEGIN:STANDARD
TZOFFSETFROM:-0400
TZOFFSETTO:-0500
TZNAME:EST
DTSTART:20191103T060000
END:STANDARD
BEGIN:DAYLIGHT
TZOFFSETFROM:-0500
TZOFFSETTO:-0400
TZNAME:EDT
DTSTART:20200308T070000
END:DAYLIGHT
BEGIN:STANDARD
TZOFFSETFROM:-0400
TZOFFSETTO:-0500
TZNAME:EST
DTSTART:20201101T060000
END:STANDARD
END:VTIMEZONE
BEGIN:VEVENT
DTSTART;TZID=America/New_York:20190728T130000
DTEND;TZID=America/New_York:20190728T160000
DTSTAMP:20260423T215350
CREATED:20190125T165628Z
LAST-MODIFIED:20190125T165628Z
UID:10006749-1564318800-1564329600@www.belairartsandentertainment.org
SUMMARY:LIRIODENDRON ART EXHIBIT
DESCRIPTION:The historic Liriodendron Mansion will host artists Ellie Tryon Elgin\, Rhoda Seiden and Barbara Love in a summer art exhibit.  View the historic home and estate grounds of Dr. Howard Kelly while taking in art by local artists. The second floor art gallery is open Sundays 1-4pm and Wednesdays 1-7pm. Admission is free.
URL:https://www.belairartsandentertainment.org/event/liriodendron-art-exhibit-11/2019-07-28/
LOCATION:Liriodendron Mansion\, 502 W. Gordon Street\, Bel Air\, MD\, 21014\, United States
END:VEVENT
BEGIN:VEVENT
DTSTART;TZID=America/New_York:20190728T190000
DTEND;TZID=America/New_York:20190728T210000
DTSTAMP:20260423T215350
CREATED:20190114T144126Z
LAST-MODIFIED:20190114T144126Z
UID:10006495-1564340400-1564347600@www.belairartsandentertainment.org
SUMMARY:SUMMER CONCERT SERIES
DESCRIPTION:Outdoor concert featuring outstanding local musicians. Bring a picnic dinner and chair or blanket. Sponsored by the Town of Bel Air through the Bel Air Recreation Committee. Free admission. Visit http://belairsummerconcerts.org/schedule for more information. For weather related updates\, call 410-803-9784.
URL:https://www.belairartsandentertainment.org/event/summer-concert-series-66/2019-07-28/
LOCATION:Shamrock Park\, Hickory Avenue and Lee Street\, Bel Air\, MD\, 21014\, United States
GEO:39.5393478;-76.3485953
X-APPLE-STRUCTURED-LOCATION;VALUE=URI;X-ADDRESS=Shamrock Park Hickory Avenue and Lee Street Bel Air MD 21014 United States;X-APPLE-RADIUS=500;X-TITLE=Hickory Avenue and Lee Street:geo:-76.3485953,39.5393478
END:VEVENT
BEGIN:VEVENT
DTSTART;TZID=America/New_York:20190731T130000
DTEND;TZID=America/New_York:20190731T190000
DTSTAMP:20260423T215350
CREATED:20230713T131331Z
LAST-MODIFIED:20230713T131331Z
UID:10006753-1564578000-1564599600@www.belairartsandentertainment.org
SUMMARY:LIRIODENDRON ART EXHIBIT
DESCRIPTION:The historic Liriodendron Mansion will host artists Ellie Tryon Elgin\, Rhoda Seiden and Barbara Love in a summer art exhibit.  View the historic home and estate grounds of Dr. Howard Kelly while taking in art by local artists. The second floor art gallery is open Sundays 1-4pm and Wednesdays 1-7pm. Admission is free.
URL:https://www.belairartsandentertainment.org/event/liriodendron-art-exhibit-11/2019-07-31/
LOCATION:Liriodendron Mansion\, 502 W. Gordon Street\, Bel Air\, MD\, 21014\, United States
END:VEVENT
END:VCALENDAR