BEGIN:VCALENDAR
VERSION:2.0
PRODID:-//Bel Air Arts &amp; Entertainment District - ECPv6.15.20//NONSGML v1.0//EN
CALSCALE:GREGORIAN
METHOD:PUBLISH
X-WR-CALNAME:Bel Air Arts &amp; Entertainment District
X-ORIGINAL-URL:https://www.belairartsandentertainment.org
X-WR-CALDESC:Events for Bel Air Arts &amp; Entertainment District
REFRESH-INTERVAL;VALUE=DURATION:PT1H
X-Robots-Tag:noindex
X-PUBLISHED-TTL:PT1H
BEGIN:VTIMEZONE
TZID:America/New_York
BEGIN:DAYLIGHT
TZOFFSETFROM:-0500
TZOFFSETTO:-0400
TZNAME:EDT
DTSTART:20180311T070000
END:DAYLIGHT
BEGIN:STANDARD
TZOFFSETFROM:-0400
TZOFFSETTO:-0500
TZNAME:EST
DTSTART:20181104T060000
END:STANDARD
BEGIN:DAYLIGHT
TZOFFSETFROM:-0500
TZOFFSETTO:-0400
TZNAME:EDT
DTSTART:20190310T070000
END:DAYLIGHT
BEGIN:STANDARD
TZOFFSETFROM:-0400
TZOFFSETTO:-0500
TZNAME:EST
DTSTART:20191103T060000
END:STANDARD
BEGIN:DAYLIGHT
TZOFFSETFROM:-0500
TZOFFSETTO:-0400
TZNAME:EDT
DTSTART:20200308T070000
END:DAYLIGHT
BEGIN:STANDARD
TZOFFSETFROM:-0400
TZOFFSETTO:-0500
TZNAME:EST
DTSTART:20201101T060000
END:STANDARD
END:VTIMEZONE
BEGIN:VEVENT
DTSTART;TZID=America/New_York:20191124T110000
DTEND;TZID=America/New_York:20191124T180000
DTSTAMP:20260421T042259
CREATED:20190115T175123Z
LAST-MODIFIED:20190115T175123Z
UID:10006682-1574593200-1574618400@www.belairartsandentertainment.org
SUMMARY:FALL INTO WINTER ART SHOW
DESCRIPTION:Harford Artists will be celebrating the holiday season through their work.  Art show featuring the changing seasons and the warmth of autumn going into the cool of winter. The gallery features a wide selection of original artwork ranging from oil\, watercolor\, photography\, pottery\, glasswork\, gourds\, jewelry\, tiles and scarves to name just a few. Show features small gift items for holiday shopping. Reception will be held November 9th from 1:00 pm – 4:00 pm.  Gallery hours Wednesday – Sunday\, 11 am – 6 pm. Call 410-420-9499 or visit www.artinharford.org. \n 
URL:https://www.belairartsandentertainment.org/event/fall-into-winter-art-show/2019-11-24/
LOCATION:The Gallery of Harford Artists\, Armory Marketplace\, 37 North Main Street\, Bel Air\, MD\, 21014\, United States
END:VEVENT
BEGIN:VEVENT
DTSTART;TZID=America/New_York:20191124T130000
DTEND;TZID=America/New_York:20191124T160000
DTSTAMP:20260421T042259
CREATED:20190115T185600Z
LAST-MODIFIED:20190115T185600Z
UID:10006720-1574600400-1574611200@www.belairartsandentertainment.org
SUMMARY:THANKSGIVING STORYTIME
DESCRIPTION:Stories celebrating Thanksgiving. Kids make a craft to take home. For children ages 5 – 10.  1 pm – 4 pm. Admission $5 adults; $3 seniors and students\, under 4 free. Call 410-838-7691 or visit www.HarfordHistory.org.
URL:https://www.belairartsandentertainment.org/event/thanksgiving-storytime/
LOCATION:Hays House Museum\, 324 Kenmore Ave \, Bel Air\, MD\, 21014\, United States
GEO:39.5324332;-76.3472444
X-APPLE-STRUCTURED-LOCATION;VALUE=URI;X-ADDRESS=Hays House Museum 324 Kenmore Ave  Bel Air MD 21014 United States;X-APPLE-RADIUS=500;X-TITLE=324 Kenmore Ave:geo:-76.3472444,39.5324332
END:VEVENT
BEGIN:VEVENT
DTSTART;TZID=America/New_York:20191127T110000
DTEND;TZID=America/New_York:20191127T180000
DTSTAMP:20260421T042259
CREATED:20190115T175123Z
LAST-MODIFIED:20190115T175123Z
UID:10006683-1574852400-1574877600@www.belairartsandentertainment.org
SUMMARY:FALL INTO WINTER ART SHOW
DESCRIPTION:Harford Artists will be celebrating the holiday season through their work.  Art show featuring the changing seasons and the warmth of autumn going into the cool of winter. The gallery features a wide selection of original artwork ranging from oil\, watercolor\, photography\, pottery\, glasswork\, gourds\, jewelry\, tiles and scarves to name just a few. Show features small gift items for holiday shopping. Reception will be held November 9th from 1:00 pm – 4:00 pm.  Gallery hours Wednesday – Sunday\, 11 am – 6 pm. Call 410-420-9499 or visit www.artinharford.org. \n 
URL:https://www.belairartsandentertainment.org/event/fall-into-winter-art-show/2019-11-27/
LOCATION:The Gallery of Harford Artists\, Armory Marketplace\, 37 North Main Street\, Bel Air\, MD\, 21014\, United States
END:VEVENT
BEGIN:VEVENT
DTSTART;TZID=America/New_York:20191128T110000
DTEND;TZID=America/New_York:20191128T180000
DTSTAMP:20260421T042259
CREATED:20190115T175123Z
LAST-MODIFIED:20190115T175123Z
UID:10006684-1574938800-1574964000@www.belairartsandentertainment.org
SUMMARY:FALL INTO WINTER ART SHOW
DESCRIPTION:Harford Artists will be celebrating the holiday season through their work.  Art show featuring the changing seasons and the warmth of autumn going into the cool of winter. The gallery features a wide selection of original artwork ranging from oil\, watercolor\, photography\, pottery\, glasswork\, gourds\, jewelry\, tiles and scarves to name just a few. Show features small gift items for holiday shopping. Reception will be held November 9th from 1:00 pm – 4:00 pm.  Gallery hours Wednesday – Sunday\, 11 am – 6 pm. Call 410-420-9499 or visit www.artinharford.org. \n 
URL:https://www.belairartsandentertainment.org/event/fall-into-winter-art-show/2019-11-28/
LOCATION:The Gallery of Harford Artists\, Armory Marketplace\, 37 North Main Street\, Bel Air\, MD\, 21014\, United States
END:VEVENT
BEGIN:VEVENT
DTSTART;TZID=America/New_York:20191129T090000
DTEND;TZID=America/New_York:20191129T170000
DTSTAMP:20260421T042259
CREATED:20190115T185809Z
LAST-MODIFIED:20190115T185809Z
UID:10006722-1575018000-1575046800@www.belairartsandentertainment.org
SUMMARY:FESTIVAL OF TREES
DESCRIPTION:CCA’S 14th ANNUAL FESTIVAL OF TREES \nThe Festival of Trees is a 2-day event during which donated\, decorated trees\, wreaths and gingerbread houses are sold through silent auction. Activities and shopping for all ages. All proceeds are donated to Cancer Life Net at the Kaufman Cancer Center. Sponsored by the Chesapeake Cancer Alliance and Upper Chesapeake Hospital Foundation. Nov. 29th 4 pm – 8 pm; Nov. 30th 9 am – 5 pm. $7 per person over 12 years of age. Call 443-643-3460 or www.uchfoundation.org.
URL:https://www.belairartsandentertainment.org/event/festival-of-trees-4/2019-11-29/
LOCATION:Bel Air Reckord Armory\, 37 North Main Street\, Bel Air\, MD\, 21014\, United States
GEO:39.5360302;-76.3483072
X-APPLE-STRUCTURED-LOCATION;VALUE=URI;X-ADDRESS=Bel Air Reckord Armory 37 North Main Street Bel Air MD 21014 United States;X-APPLE-RADIUS=500;X-TITLE=37 North Main Street:geo:-76.3483072,39.5360302
END:VEVENT
BEGIN:VEVENT
DTSTART;TZID=America/New_York:20191129T110000
DTEND;TZID=America/New_York:20191129T180000
DTSTAMP:20260421T042259
CREATED:20190115T175123Z
LAST-MODIFIED:20190115T175123Z
UID:10006685-1575025200-1575050400@www.belairartsandentertainment.org
SUMMARY:FALL INTO WINTER ART SHOW
DESCRIPTION:Harford Artists will be celebrating the holiday season through their work.  Art show featuring the changing seasons and the warmth of autumn going into the cool of winter. The gallery features a wide selection of original artwork ranging from oil\, watercolor\, photography\, pottery\, glasswork\, gourds\, jewelry\, tiles and scarves to name just a few. Show features small gift items for holiday shopping. Reception will be held November 9th from 1:00 pm – 4:00 pm.  Gallery hours Wednesday – Sunday\, 11 am – 6 pm. Call 410-420-9499 or visit www.artinharford.org. \n 
URL:https://www.belairartsandentertainment.org/event/fall-into-winter-art-show/2019-11-29/
LOCATION:The Gallery of Harford Artists\, Armory Marketplace\, 37 North Main Street\, Bel Air\, MD\, 21014\, United States
END:VEVENT
BEGIN:VEVENT
DTSTART;TZID=America/New_York:20191130T080000
DTEND;TZID=America/New_York:20191130T200000
DTSTAMP:20260421T042259
CREATED:20190115T190027Z
LAST-MODIFIED:20190115T190027Z
UID:10006725-1575100800-1575144000@www.belairartsandentertainment.org
SUMMARY:SMALL BUSINESS SATURDAY
DESCRIPTION:Join us by supporting our small businesses here in downtown Bel Air and enjoy what they have to offer for this special time of the year. For more information\, contact local organizer Bel Air Downtown Alliance at 443-823-1797 or www.downtownbelair.com.
URL:https://www.belairartsandentertainment.org/event/small-business-saturday-4/
LOCATION:Arts & Entertainment District\, 37 North Main Street\, Bel Air\, MD\, 21014\, United States
END:VEVENT
BEGIN:VEVENT
DTSTART;TZID=America/New_York:20191130T090000
DTEND;TZID=America/New_York:20191130T170000
DTSTAMP:20260421T042259
CREATED:20190115T185809Z
LAST-MODIFIED:20190115T185809Z
UID:10006723-1575104400-1575133200@www.belairartsandentertainment.org
SUMMARY:FESTIVAL OF TREES
DESCRIPTION:CCA’S 14th ANNUAL FESTIVAL OF TREES \nThe Festival of Trees is a 2-day event during which donated\, decorated trees\, wreaths and gingerbread houses are sold through silent auction. Activities and shopping for all ages. All proceeds are donated to Cancer Life Net at the Kaufman Cancer Center. Sponsored by the Chesapeake Cancer Alliance and Upper Chesapeake Hospital Foundation. Nov. 29th 4 pm – 8 pm; Nov. 30th 9 am – 5 pm. $7 per person over 12 years of age. Call 443-643-3460 or www.uchfoundation.org.
URL:https://www.belairartsandentertainment.org/event/festival-of-trees-4/2019-11-30/
LOCATION:Bel Air Reckord Armory\, 37 North Main Street\, Bel Air\, MD\, 21014\, United States
GEO:39.5360302;-76.3483072
X-APPLE-STRUCTURED-LOCATION;VALUE=URI;X-ADDRESS=Bel Air Reckord Armory 37 North Main Street Bel Air MD 21014 United States;X-APPLE-RADIUS=500;X-TITLE=37 North Main Street:geo:-76.3483072,39.5360302
END:VEVENT
BEGIN:VEVENT
DTSTART;TZID=America/New_York:20191130T100000
DTEND;TZID=America/New_York:20191130T170000
DTSTAMP:20260421T042259
CREATED:20191114T194347Z
LAST-MODIFIED:20191114T194347Z
UID:10006794-1575108000-1575133200@www.belairartsandentertainment.org
SUMMARY:Liriodendron Holiday Open House
DESCRIPTION:Experience that holiday magic at the historic Liriodendron Mansion’s annual Holiday Open House. Fresh greenery arrangements\, mantle and centerpieces for sale\, arts and crafts vendors\, live Christmas music\, refreshments and a visit from Santa. \nSuggested donation of $5 per individual or $10 per family. For hours and information\, visit www.liriodendron.com.
URL:https://www.belairartsandentertainment.org/event/liriodendron-holiday-open-house-2/2019-11-30/
LOCATION:Liriodendron Mansion\, 502 W. Gordon Street\, Bel Air\, MD\, 21014\, United States
END:VEVENT
BEGIN:VEVENT
DTSTART;TZID=America/New_York:20191130T110000
DTEND;TZID=America/New_York:20191130T180000
DTSTAMP:20260421T042259
CREATED:20190115T175123Z
LAST-MODIFIED:20190115T175123Z
UID:10006686-1575111600-1575136800@www.belairartsandentertainment.org
SUMMARY:FALL INTO WINTER ART SHOW
DESCRIPTION:Harford Artists will be celebrating the holiday season through their work.  Art show featuring the changing seasons and the warmth of autumn going into the cool of winter. The gallery features a wide selection of original artwork ranging from oil\, watercolor\, photography\, pottery\, glasswork\, gourds\, jewelry\, tiles and scarves to name just a few. Show features small gift items for holiday shopping. Reception will be held November 9th from 1:00 pm – 4:00 pm.  Gallery hours Wednesday – Sunday\, 11 am – 6 pm. Call 410-420-9499 or visit www.artinharford.org. \n 
URL:https://www.belairartsandentertainment.org/event/fall-into-winter-art-show/2019-11-30/
LOCATION:The Gallery of Harford Artists\, Armory Marketplace\, 37 North Main Street\, Bel Air\, MD\, 21014\, United States
END:VEVENT
END:VCALENDAR